Workbook
Name _____________L2: #REF!
Name _____________L2: #REF!
Name _____________L2: #REF!
Name _____________L2: #REF!
Name _____________L2: #REF!
Name _____________L2: #REF!
Name _____________L2: #REF!
Name ____________L2: #REF!
Name ____________L2: #REF!
Name ____________L2: #REF!
Name ____________L2: #REF!
Name ____________L2: #REF!
Name ____________L2: #REF!
Name ____________L2: #REF!
Name ___________L2: #REF!
Name ___________L2: #REF!
Name ___________L2: #REF!
Name ___________L2: #REF!
Name ___________L2: #REF!
Name ___________L2: #REF!
Name ___________L2: #REF!
Name ___________LM3: #REF!
Name ___________LM3: #REF!
Name ___________LM3: #REF!
Name ___________LM3: #REF!
Name ___________LM3: #REF!
Name ___________LM3: #REF!
Name ___________LM3: #REF!
Name __________ff1: #REF!
Name __________ff1: #REF!
Name __________ff1: #REF!
Name __________ff1: #REF!
Name __________ff1: #REF!
Name __________ff1: #REF!
Name __________ff1: #REF!
Name __________L2: #REF!
Name __________L2: #REF!
Name __________L2: #REF!
Name __________L2: #REF!
Name __________L2: #REF!
Name __________L2: #REF!
Name __________L2: #REF!
Name __________L3: #REF!
Name __________L3: #REF!
Name __________L3: #REF!
Name __________L3: #REF!
Name __________L3: #REF!
Name __________L3: #REF!
Name __________L3: #REF!
Name __________L4: #REF!
Name __________L4: #REF!
Name __________L4: #REF!
Name __________L4: #REF!
Name __________L4: #REF!
Name __________L4: #REF!
Name __________L4: #REF!
Name __________LM3: #REF!
Name __________LM3: #REF!
Name __________LM3: #REF!
Name __________LM3: #REF!

Sheet FR08001
A1: 工程文件變更通知單 Engineering Document Change Notice
A2: Foxconn Industrial Internet Co.,Ltd | Z2: NO:
A3: 文件名稱 Document name | E3: T99X171.00 PACK SOP | R3: 文件編號 Document No. | V3: SOP-NV-AM646B1-03 | AA3: 版次. Ver. | AC3: H1
A4: 文件類別 : 工程文件 Doc.Type: Engineering document | K4: 類別(Priority Level)﹕■一般(Normal □ 紧急(Urgent) | V4: 機密(Secret)﹕□ Yes ■No
A5: 變更之前-Before change description: | R5: 變更之后-After change description:
A6: Update 工程師負責 Cập nhật Kỹ sư phụ trách | R6: Update 工程師負責 Cập nhật Kỹ sư phụ trách
A13: 會簽方式 Checking method | E13: ■需要 (Unnecessary) | J13: 紙檔 (On paper) 會議( Meeting, time/location:) / | X13: 會議室(Meeting room)
A14: 會簽部門 Checking dept | E14: 部門 (Dept.) | J14: 會簽人(Check by) | L14: 描述 (Description)
A23: 分發部門 Deliver to | E23: 分發 Deliver | G23: 部門 Dept. | K23: 份數 Copy | M23: 分發 Deliver | O23: 部門 Dept. | R23: 份數 Copy | T23: 分發 Deliver | V23: 部門 Dept. | W23: 份數 Copy | Y23: 分發 Deliver | AA23: 部門 Dept. | AC23: 份數 Copy
G24: PD-F16 | K24: 1
A29: 批准 Approve | T29: 申請部門(Application Dept.) | X29: IE
A30: 工程主管(Engineering Manager) | K30: QA 主管(QA Manager) | T30: 申請部門主管 Application Dept. Manager | X30: 阮氏秋恒
A31: 黎文泰 | K31: Rachel Nguyen | T31: 申請日期 (Apply by / date) | X31: 阮氏燕 06.30.2022
A32: 保管期限(Storage life): 長期(Long time) 表單號碼(Sheet No.): FK3NVA009001C

Sheet 目錄 
A1: Foxconn Industrial Internet Co.,Ltd
A2: 系統名稱(SYSTEM): | G2: 文件名稱(DOCUMENT NAME): | N2: 文件編號(DOCUMENT NO): | T2: 版次Rev.
A3: 工程管理 Quản lí kĩ thuật | G3: T99X171.00 PACK SOP | N3: SOP-NV-AM646B1-03 | T3: ='FR08001'!AC3 -> H1
N4: 頁次 PAGE | P4: 1 | R4: 總頁數 Total | T4: =MAX(B8:B28,L8:L28)+2 -> 25
B6: ******** 目錄 (Table of Contents) ********
B7: 序號 Item | C7: 內容描述 Content description | I7: 版次 Ver. | J7: 頁次 Page | L7: 序號 Item | M7: 內容描述 Content description | S7: 版次 Ver. | T7: 頁次 Page
B8: 1 | C8: Stick Warranty label Dán tem Warranty | I8: H | J8: 3 | L8: 23 | M8: Flow chart Lưu trình | S8: H | T8: 22
B9: 2 | C9: Stick KC label Dán tem KC | I9: H | J9: 4
B10: 3 | C10: Stick rubber Dán chân đệm | I10: H | J10: 5
B11: 4 | C11: VI & Print Device label Kiểm tra ngoại quan & In Device label | I11: H | J11: 6
B12: 5 | C12: Stick Device Label Dán Device Label | I12: H | J12: 7
B13: 6 | C13: VI1 Kiểm tra ngoại quan 1 | I13: H | J13: 8-1
B14: 7 | C14: VI1 Kiểm tra ngoại quan 1 | I14: H | J14: 8-2
B15: 8 | C15: VI1 Kiểm tra ngoại quan 1 | I15: H | J15: 8-3
B16: 9 | C16: Put Housing in PE bag Đút túi PE | I16: H | J16: 9
B17: 10 | C17: Insert and scan accessary Lấy & quét phụ kiện | I17: H1 | J17: 10
B18: 12 | C18: Gift Box fold Gấp hộp | I18: H1 | J18: 11
B19: 13 | C19: Arrange accessaries Sắp xếp phụ kiện | I19: H1 | J19: 12
B20: 14 | C20: Partition folded Gấp Vách ngăn | I20: H1 | J20: 13
B21: 15 | C21: Stick Box Label Dán Box Label | I21: H1 | J21: 14
B22: 16 | C22: Pack Box | I22: H1 | J22: 15
B23: 17 | C23: Close Box Đóng Box | I23: H1 | J23: 16
B24: 18 | C24: Check weight Kiểm tra trọng lượng | I24: H1 | J24: 17
B25: 19 | C25: Pack pallet Đóng Pallet ngoài chuyền | I25: H1 | J25: 18
B26: 20 | C26: ='Pallet Stacking'!D3 -> Pallet Stacking Xếp Pallet | I26: H1 | J26: 19
B27: 21 | C27: =Warehouse!D3 -> Warehouse Nhập kho | I27: H1 | J27: 20
B28: 22 | C28: ='First Item Label'!D3 -> First item Label Label bản đầu | I28: H1 | J28: 21
A31: ******** Proprietary information of Foxconn ********

Sheet 修訂履歷  
A1: Foxconn Industrial Internet Co.,Ltd
A2: 系統名稱(SYSTEM): | D2: 文件名稱(DOCUMENT NAME): | H2: 文件編號(DOCUMENT NO): | K2: 版次REV.
A3: 工程管理 Quản lí kĩ thuật | D3: T99X171.00 PACK SOP | H3: SOP-NV-AM646B1-03 | K3: ='目錄 '!T3 -> H1
H4: 頁次 PAGE | I4: 2 | J4: 總頁數 Total | K4: ='目錄 '!T4 -> 25
C6: ****** 修訂履歷( Revision History)******
B7: 版次 Rev. | C7: 工程變更通知單單號 ECN NO. | E7: 修訂履歷 Revision History | I7: 修訂人 Revision by | J7: 修訂日期 Revision date
B8: A | C8: NA | E8: The first issue Phát hành lần đầu | I8: Huyền IE | J8: 06.26.2020
B9: B | C9: NA | E9: Update critical Cập nhật công đoạn quan trọng | I9: Huyền IE | J9: 07.15.2020
B10: B1 | C10: NA | E10: Setup station Sắp xếp lại công đoạn | I10: Huyền IE | J10: 08.22.2020
B11: B2 | C11: NA | E11: Update again VI - weight tools & solution C09 Update công cụ sử dụng VI - cân và dung dịch C09 | I11: Huyền IE | J11: 11.09.2020
B12: C | C12: NA | E12: Update work content Cập nhật nội dung thao tác | I12: Huyền IE | J12: 12.15.2020
B13: D | C13: NA | E13: Update Equipment & picture Cập nhật thiết bị dụng cụ & hình ảnh | I13: Huyền IE | J13: 01.28.2021
B14: E | C14: NA | E14: Update 工程師負責 Cập nhật Kỹ sư phụ trách | I14: Linh IE | J14: 03.25.2021
B15: F | C15: NA | E15: Update picture, material code, ESD and flowchart Cập nhật hình ảnh, mã liệu, ESD và thêm lưu trình | I15: Linh IE | J15: 07.20.2021
B16: G | C16: NA | E16: Update pictue, work content and material code Cập nhật hình ảnh, nội dung thao tác và mã liệu | I16: Linh IE | J16: 09.14.2021
B17: G1 | C17: NA | E17: Update RCU code, tools, picture Cập nhật mã liệu RCU, thiết bị sử dụng và hình ảnh | I17: Linh IE | J17: 11.04.2021
B18: G2 | C18: NA | E18: Update warehouse station content Cập nhật nội dung công đoạn nhập kho | I18: Linh IE | J18: 02.18.2022
... B20: H | C20: NA | E20: Update 工程師負責 Cập nhật Kỹ sư phụ trách | I20: Yến IE | J20: 06.30.2022
A23: ******** Proprietary information of Foxconn ********

Sheet Stick Warranty label
A1: FOXCONN INDUSTRIAL INTERNET CO.,LTD
A2: 標準作業規范 QUI ĐỊNH THAO TÁC TIÊU CHUẨN
A3: 適用產品 Sản phẩm | B3: T99X171.00 (BFX-AT100) | C3: 工站名稱 Công đoạn | D3: Stick Warranty label Dán tem Warranty | F3: 規 範 編 號 Mã tài liệu | H3: SOP-NV-AM646B1-03 | K3: 版次 Phiên bản | M3: G3 | N3: 頁次 Trang | P3: 3
A4: ※ 使用設備(治工具)Thiết bị, dụng cụ | F4: ※ 圖示 Hình minh họa:
A5: STT | B5: 使用設備(治工具) Thiết bị, dụng cụ | C5: 編號 Mã | D5: Q'ty | E5: 備註 Chú thích
A6: 1 | B6: Tweezers Nhíp gắp | C6: NA | D6: 1 | E6: NA
A7: 2 | B7: Cotton swab Tăm bông | C7: NA | D7: 1 | E7: NA
A8: ※作業步驟 Nội dung thao tác
A9: 1. Take out protect film at bottom case, check Housing must have enough 2 screws
A10: and screws must not be floating (H1)
A11: Từ băng chuyền lấy sản phẩm, kiểm tra không được thiếu 2 ốc vít, ốc không bị nổi cao,...(H1)
A12: 2. Check OK, take out protect film (H2), use tweezers as H5 stick Warranty label on screw as H2,
A13: use a cotton swab to fix the warranty label.
A14: Kiểm tra xong, lột một góc băng bảo vệ (như H2), sử dụng nhíp như H5
A15: lấy tem Warranty dán vào vị trí của ốc vít như H2, dùng tăm bông để cố định tem.
A16: 3. To check rubber pad must totally sticked on Housing without incline. Stick protect film (H4).
A17: Xác nhận tem Warranty đã được được dán chặt vào ốc vít, sau đó dán lại băng bảo vệ (H4).
A18: 4. Stick protect film OK and Pass Housing to the next station. Product movement direction as H.4
A19: Dán xong băng bảo vệ, chuyển sản phẩm xuống công đoạn sau. Hướng đi của bản như H.4
... A27: Trong quá trình sản xuất, số bản ùn không vượt quá 5 pcs
A28: 3. Owner/ Kĩ sư phụ trách | F28: ※ 使用材料(零件明細表) Bảng chi tiết các vật liệu sử dụng
A29: 部門 Bộ phận | B29: 名稱 Tên kĩ sư phụ trách | C29: 聯絡方式 Phương thức liên lạc | G29: P/N | J29: Specification | N29: Q'ty | P29: Class
F30: 1 | G30: 504.01483.005 | J30: LABEL Frangible Paper D5mm REV.01 GP8 | N30: 1 | P30: Warranty label
A31: IE | B31: Nguyễn Thị Yến | C31: 0337278797
A32: PQE | B32: Nguyễn Thị Hằng | C32: 0335578615 | L32: Standard time | N32: 12sec (CT=12sec)
A33: ME | B33: Nguyễn Quang Huy | C33: 0354644354

Sheet Stick KC label 
A1: FOXCONN INDUSTRIAL INTERNET CO.,LTD
A2: 標準作業規范 QUI ĐỊNH THAO TÁC TIÊU CHUẨN
A3: 適用產品 Sản phẩm | B3: T99X171.00 (BFX-AT100) | C3: 工站名稱 Công đoạn | D3: Stick KC label Dán tem KC | F3: 規 範 編 號 Mã tài liệu | H3: SOP-NV-AM646B1-03 | K3: 版次 Phiên bản | M3: G3 | N3: 頁次 Trang | P3: 4
A4: ※ 使用設備(治工具)Thiết bị, dụng cụ | F4: ※ 圖示 Hình minh họa:
A5: STT | B5: 使用設備(治工具) Thiết bị, dụng cụ | C5: 編號 Mã | D5: Q'ty | E5: 備註 Chú thích
A6: 1 | B6: Fixture paste label KC Khuôn dán tem KC | C6: A-20419-XXX- A-70119-XXX-X | D6: 1 | E6: NA
A7: ※作業步驟 Nội dung thao tác
A8: 1. Check the product stick Warranty label as H1.
A9: Kiểm tra, xác nhận sản phẩm đã dán tem Warranty như H1.
A10: 2. Take out protect film at corner of top case as H2. Put Housing on the fixture, logo upward
A11: and close the cover of the fixture, then stick KC label on, follow T-direction as H2
A12: Lột một góc băng bảo vệ ở mặt nắp trên như H2. Đặt sản phẩm vào khuôn
A13: đóng nắp khuôn, lấy tem KC dán vào nắp trên như H2
A14: 3. Stick protect film and Pass Housing to the next station.
A15: Product movement direction as H.3
A16: Thao tác xong, dán lại băng bảo vệ và chuyển sản phẩm xuống công đoạn sau.
A17: Hướng đi của bản như H.3
A18: ※ 注意/確認事項 Chú ý
... A29: 4. Owner/ Kĩ sư phụ trách
A30: 部門 Bộ phận | B30: 名稱 Tên kĩ sư phụ trách | C30: 聯絡方式 Phương thức liên lạc | F30: ※ 使用材料(零件明細表) Bảng chi tiết các vật liệu sử dụng
G31: P/N Mã liệu | J31: Specification Quy cách | N31: Q'ty | P31: Class Tên liệu
A32: IE | B32: ='Stick Warranty label'!B31 -> Nguyễn Thị Yến | C32: ='Stick Warranty label'!C31 -> 0337278797 | F32: 1 | G32: 500.02364.015 | J32: LABEL SAFETY 50# Mylar 24*8mm REV.00 | N32: 1 | P32: Tem KC
A33: PQE | B33: ='Stick Warranty label'!B32 -> Nguyễn Thị Hằng | C33: ='Stick Warranty label'!C32 -> 0335578615
A34: ME | B34: ='Stick Warranty label'!B33 -> Nguyễn Quang Huy | C34: ='Stick Warranty label'!C33 -> 0354644354 | K34: Standard time | N34: 12sec (CT=12sec)

Sheet Stick rubber
A1: FOXCONN INDUSTRIAL INTERNET CO.,LTD
A2: 標準作業規范 QUI ĐỊNH THAO TÁC TIÊU CHUẨN
A3: 適用產品 Sản phẩm | B3: T99X171.00 (BFX-AT100) | C3: 工站名稱 Công đoạn | D3: Stick rubber Dán chân đệm | F3: 規 範 編 號 Mã tài liệu | H3: SOP-NV-AM646B1-03 | K3: 版次 Phiên bản | M3: G3 | N3: 頁次 Trang | P3: 5
A4: ※ 使用設備(治工具)Thiết bị, dụng cụ | F4: ※ 圖示 Hình minh họa:
A5: STT | B5: 使用設備(治工具) Thiết bị, dụng cụ | C5: 編號 Mã | D5: Q'ty | E5: 備註 Chú thích
A6: NA | B6: NA | C6: NA | D6: NA | E6: NA
A7: ※作業步驟 Nội dung thao tác
A8: 1. Check the product stick Warranty and KC label as H1, H4.
A9: Then, remove BOT protect film, take and stick rubber pad on the BOT side as H2.
A10: Kiểm tra, xác nhận sản phẩm đã dán tem Warranty và KC như H1, H4.
A11: Bóc băng bảo vệ mặt BOT, lấy đệm cao su dán vào mặt BOT như H2
A12: 2. To check rubber pad must totally sticked on Housing without incline.
A13: Kiểm tra chân đệm phải được dán chặt vào Housing và không bị dán lệch.
A14: 3. Stick protect film and Pass Housing to the next station.
A15: Product move direction as H.3
A16: Dán lại băng bảo vệ và chuyển sản phẩm xuống công đoạn sau.
A17: Hướng đi của bản như H.3
A18: ※ 注意/確認事項 Chú ý
... A25: Trong quá trình sản xuất, số bản ùn không vượt quá 5 pcs
A27: 3. Owner/ Kĩ sư phụ trách | F27: ※ 使用材料(零件明細表) Bảng chi tiết các vật liệu sử dụng
A28: 部門 Bộ phận | B28: 名稱 Tên kĩ sư phụ trách | C28: 聯絡方式 Phương thức liên lạc | G28: P/N | J28: Specification | N28: Q'ty | P28: Class
F29: 1 | G29: 481.00539.005 | J29: RUBBER PAD 80.6*80.6*1.5mm REV.01 T9 | N29: 1 | P29: Đệm cao su
A30: IE | B30: ='Stick KC label '!B32 -> Nguyễn Thị Yến | C30: ='Stick KC label '!C32 -> 0337278797
A31: PQE | B31: ='Stick KC label '!B33 -> Nguyễn Thị Hằng | C31: ='Stick KC label '!C33 -> 0335578615 | L31: Standard time | N31: 12sec (CT=12sec)
A32: ME | B32: ='Stick KC label '!B34 -> Nguyễn Quang Huy | C32: ='Stick KC label '!C34 -> 0354644354

Sheet VI & Print Device label 
A1: FOXCONN INDUSTRIAL INTERNET CO.,LTD
A2: 標準作業規范 QUI ĐỊNH THAO TÁC TIÊU CHUẨN
A3: 適用產品 Sản phẩm | B3: T99X171.00 (BFX-AT100) | C3: 工站名稱 Công đoạn | D3: VI & Print Device label Kiểm tra ngoại quan & In Device label | F3: 規 範 編 號 Mã tài liệu | H3: SOP-NV-AM646B1-03 | K3: 版次 Phiên bản | M3: H | N3: 頁次 Trang | O3: 6
A4: ※ 使用設備(治工具)Thiết bị, dụng cụ | F4: ※ 圖示 Hình minh họa
A5: STT | B5: 使用設備(治工具) Thiết bị, dụng cụ | C5: 編號 Mã | D5: Q'ty | E5: 備註 Chú thích
A6: 1 | B6: Scanner Máy Scan | C6: NA | D6: 1 | E6: NA
A7: 2 | B7: Cut tape machine Máy cắt băng dính | C7: NA | D7: 1 | E7: NA
A8: 3 | B8: Máy in label online | C8: NA | D8: 1 | E8: NA
A9: 4 | B9: Máy tính PC | C9: NA | D9: 1 | E9: NA
A10: ※作業步驟 Nội dung thao tác
A11: 1. Check KC label about content and characters have to be clear, broken character, misalightment priting,..
A12: Label must be sticked as T-direction (H2) and SN label must be floated stick on Housing (H1)
A13: Kiểm tra tem KC phải dán theo chiều chữ T (H2) về nội dung, kí tự không được sai, mờ,
A14: thiếu, đứt nét, in lệch, rách,…Kiểm tra SN label đã được dán nổi trên Housing (H1)
A15: 2. Remove protective film at housing. Visual inspect Housing must not have any scratch, dirty,
A16: break or get out of shape. Then Keep protetive film at TOP housing
A17: Bóc băng bảo vệ kiểm tra ngoại quan Housing không được hiện thị có vết bẩn, bụi lông,
A18: vết xước, biến dạng hình, vết hằn nứt... Sau đó dán lại băng bảo vệ mặt TOP
A19: 3. Check connector port must not dirty or bent, characters must be clearly (H3), refer to image Ok and NG (H.7)
A20: Kiểm tra cổng tiếp nối có bị bẩn không, nét in, ký tự phải rõ ràng, chân pin không được biến dạng (H3).
A21: Tham khảo hình ảnh Ok và NG (H.7)
... A42: 2. Owner/ Kĩ sư phụ trách
A44: 部門 Bộ phận | B44: 名稱 Tên kĩ sư phụ trách | C44: 聯絡方式 Phương thức liên lạc | F44: ※ 使用材料(零件明細表) Bảng chi tiết các vật liệu sử dụng
G45: P/N | I45: Specification | M45: Q'ty | O45: Class
A46: IE | B46: ='Stick rubber'!B30 -> Nguyễn Thị Yến | C46: ='Stick rubber'!C30 -> 0337278797 | F46: 1 | G46: 504.01805.015 | I46: LABEL 50#MYLAR 50*50mm REV.00 GP/HF | M46: 2 | O46: Label
A47: PQE | B47: ='Stick rubber'!B31 -> Nguyễn Thị Hằng | C47: ='Stick rubber'!C31 -> 0335578615 | J47: Standard time | L47: 12sec(CT=12sec)
A48: ME | B48: ='Stick rubber'!B32 -> Nguyễn Quang Huy | C48: ='Stick rubber'!C32 -> 0354644354

Sheet Stick Device Label
A1: FOXCONN INDUSTRIAL INTERNET CO.,LTD
A2: 標準作業規范 QUI ĐỊNH THAO TÁC TIÊU CHUẨN
A3: 適用產品 Sản phẩm | B3: T99X171.00 (BFX-AT100) | C3: 工站名稱 Công đoạn | D3: Stick Device Label Dán Device label | F3: 規 範 編 號 Mã tài liệu | H3: SOP-NV-AM646B1-03 | J3: 版次 Phiên bản | K3: H | L3: 頁次 Trang | M3: 7
A4: ※ 使用設備(治工具)Thiết bị, dụng cụ | F4: ※ 圖示 Hình minh họa:
A5: STT | B5: 使用設備(治工具) Thiết bị, dụng cụ | C5: 編號 Mã | D5: Q'ty | E5: 備註 Chú thích
A6: NA | B6: NA | C6: NA | D6: NA | E6: NA
A7: ※作業步驟 Nội dung thao tác
A8: 1. Take Housing to visual inspect Housing must not have any scratch, dirty, break or get out of shape.
A9: Check rubber pad must totally sticked on Housing without incline (H1).
A10: Từ chuyển lấy sản phẩm kiểm tra ngoại quan không được có vết bẩn, bụi lông, vết xước,
A11: biến dạng hình, vết hằn nứt. Kiểm tra chân đệm phải được dán chặt vào Housing và dán không bị lệch (H1).
A12: 2. Put Housing far from eyes 40cm must not see any scratch, connector side must not have
A13: more than 6 scratches, the length of each scratch must not over 3mm.
A14: Sản phẩm để cách mặt 40cm không nhìn thấy vết xước, mặt connector không được có quá 6 vết xước,
A15: mỗi vết xước không được dài quá 3mm thì sản phẩm đạt.
A16: 3. Check Device label, Box Label about content and characters have to be clear, Device label as H2.
A17: If label OK, follow T-direction to stick. If Device label, Box Label about content and characters
A18: have to be clear as H3 notice leader line handling. Take box label and stick on the housing as H4.
... A32: 3. Owner/ Kĩ sư phụ trách
A33: 部門 Bộ phận | B33: 名稱 Tên kĩ sư phụ trách | C33: 聯絡方式 Phương thức liên lạc
A35: IE | B35: ='VI & Print Device label '!B46 -> Nguyễn Thị Yến | C35: ='VI & Print Device label '!C46 -> 0337278797
A36: PQE | B36: ='VI & Print Device label '!B47 -> Nguyễn Thị Hằng | C36: ='VI & Print Device label '!C47 -> 0335578615 | I36: Standard time | K36: 12sec (CT=12sec)
A37: ME | B37: ='VI & Print Device label '!B48 -> Nguyễn Quang Huy | C37: ='VI & Print Device label '!C48 -> 0354644354

Sheet VI1 (1)
A1: FOXCONN INDUSTRIAL INTERNET CO.,LTD
A2: 標準作業規范 QUI ĐỊNH THAO TÁC TIÊU CHUẨN
A3: 適用產品 Sản phẩm | B3: T99X171.00 (BFX-AT100) | C3: 工站名稱 Công đoạn | D3: VI1 Kiểm tra ngoại quan 1 | F3: 規 範 編 號 Mã tài liệu | I3: SOP-NV-AM646B1-03 | K3: 版次 Phiên bản | L3: H | M3: 頁次 Trang | N3: 8-1
A4: ※ 使用設備(治工具)Thiết bị, dụng cụ | F4: ※ 圖示 Hình minh họa
A5: STT | B5: 使用設備(治工具) Thiết bị, dụng cụ | C5: 編號 Mã | D5: Q'ty | E5: 備註 Chú thích
A6: 1 | B6: Scanner Scan | C6: NA | D6: 1 | E6: NA
A7: 2 | B7: CMC | C7: NA | D7: 1 | E7: NA
A8: 3 | B8: Power wire. Dây nguồn 2.0 | C8: NA | D8: 1 | E8: NA
A9: ※作業步驟 Nội dung thao tác
A10: 1 Check Device label & KC label about content and characters have to be clear, broken character,
A11: misalightment priting,.. Label must be sticked as T-direction on H1-H3 and box label must be floated stick on Housing.
A12: Kiểm tra tem Device và tem KC phải dán theo chiều chữ T(H1-H3) về nội dung, kí tự không được sai, mờ,
A13: thiếu, đứt nét, in lệch, rách,…Kiểm tra tem Box label đã được dán nổi trên Housing(H.3)
A14: 2. Visual inspect Housing must not have any scratch, dirty, break or get out of shape H.2
A15: If happen remove protective film and repair at housing. Then Keep protetive film at TOP housing H.3
A16: Kiểm tra mặt TOP không được có vết bẩn, bụi lông vết xước, biến dạng hình, vết hằn nứt... (H.2).
A17: Nếu có bóc băng bảo vệ kiểm tra ngoại quan xử lý Housing. Sau đó dán lại băng bảo vệ mặt TOP (H.3).
A18: 3. Check connector port must not dirty or bent, characters must be clearly (H5), refer to image Ok and NG (H.7)
A19: Kiểm tra cổng tiếp nối có bị bẩn không, nét in, ký tự phải rõ ràng, chân pin không được biến dạng (H5).
A20: Tham khảo hình ảnh Ok và NG (H.7)
... A42: 3. Owner/ Kĩ sư phụ trách
A43: 部門 Bộ phận | B43: 名稱 Tên kĩ sư phụ trách | C43: 聯絡方式 Phương thức liên lạc
A45: IE | B45: ='Stick Device Label'!B35 -> Nguyễn Thị Yến | C45: ='Stick Device Label'!C35 -> 0337278797
A46: PQE | B46: ='Stick Device Label'!B36 -> Nguyễn Thị Hằng | C46: ='Stick Device Label'!C36 -> 0335578615 | J46: Standard time | L46: 35sec(CT=12sec)
A47: ME | B47: ='Stick Device Label'!B37 -> Nguyễn Quang Huy | C47: ='Stick Device Label'!C37 -> 0354644354

Sheet VI1 (2)
A1: FOXCONN INDUSTRIAL INTERNET CO.,LTD
A2: 標準作業規范 QUI ĐỊNH THAO TÁC TIÊU CHUẨN
A3: 適用產品 Sản phẩm | B3: T99X171.00 (BFX-AT100) | C3: 工站名稱 Công đoạn | D3: VI1 Kiểm tra ngoại quan 1 | F3: 規 範 編 號 Mã tài liệu | I3: SOP-NV-AM646B1-03 | K3: 版次 Phiên bản | L3: H | M3: 頁次 Trang | N3: 8-2
A4: ※ 使用設備(治工具)Thiết bị, dụng cụ | F4: ※ 圖示 Hình minh họa
A5: STT | B5: 使用設備(治工具) Thiết bị, dụng cụ | C5: 編號 Mã | D5: Q'ty | E5: 備註 Chú thích
A6: 1 | B6: Scanner Scan | C6: NA | D6: 1 | E6: NA
A7: 2 | B7: CMC | C7: NA | D7: 1 | E7: NA
A8: 3 | B8: Power wire. Dây nguồn 2.0 | C8: NA | D8: 1 | E8: NA
A9: ※作業步驟 Nội dung thao tác
A10: 1 Check Device label & KC label about content and characters have to be clear, broken character,
A11: misalightment priting,.. Label must be sticked as T-direction on H1-H3 and box label must be floated stick on Housing.
A12: Kiểm tra tem Device và tem KC phải dán theo chiều chữ T(H1-H3) về nội dung, kí tự không được sai, mờ,
A13: thiếu, đứt nét, in lệch, rách,…Kiểm tra tem Box label đã được dán nổi trên Housing(H.3)
A14: 2. Visual inspect Housing must not have any scratch, dirty, break or get out of shape H.2
A15: If happen remove protective film and repair at housing. Then Keep protetive film at TOP housing H.3
A16: Kiểm tra mặt TOP không được có vết bẩn, bụi lông vết xước, biến dạng hình, vết hằn nứt... (H.2).
A17: Nếu có bóc băng bảo vệ kiểm tra ngoại quan xử lý Housing. Sau đó dán lại băng bảo vệ mặt TOP (H.3).
A18: 3. Check connector port must not dirty or bent, characters must be clearly (H5), refer to image Ok and NG (H.7)
A19: Kiểm tra cổng tiếp nối có bị bẩn không, nét in, ký tự phải rõ ràng, chân pin không được biến dạng (H5).
A20: Tham khảo hình ảnh Ok và NG (H.7)
... A42: 3. Owner/ Kĩ sư phụ trách
A43: 部門 Bộ phận | B43: 名稱 Tên kĩ sư phụ trách | C43: 聯絡方式 Phương thức liên lạc
A45: IE | B45: ='Stick Device Label'!B35 -> Nguyễn Thị Yến | C45: ='Stick Device Label'!C35 -> 0337278797
A46: PQE | B46: ='Stick Device Label'!B36 -> Nguyễn Thị Hằng | C46: ='Stick Device Label'!C36 -> 0335578615 | J46: Standard time | L46: 35sec(CT=12sec)
A47: ME | B47: ='Stick Device Label'!B37 -> Nguyễn Quang Huy | C47: ='Stick Device Label'!C37 -> 0354644354

Sheet VI1 (3)
A1: FOXCONN INDUSTRIAL INTERNET CO.,LTD
A2: 標準作業規范 QUI ĐỊNH THAO TÁC TIÊU CHUẨN
A3: 適用產品 Sản phẩm | B3: T99X171.00 (BFX-AT100) | C3: 工站名稱 Công đoạn | D3: VI1 Kiểm tra ngoại quan 1 | F3: 規 範 編 號 Mã tài liệu | I3: SOP-NV-AM646B1-03 | K3: 版次 Phiên bản | L3: H | M3: 頁次 Trang | N3: 8-3
A4: ※ 使用設備(治工具)Thiết bị, dụng cụ | F4: ※ 圖示 Hình minh họa
A5: STT | B5: 使用設備(治工具) Thiết bị, dụng cụ | C5: 編號 Mã | D5: Q'ty | E5: 備註 Chú thích
A6: 1 | B6: Scanner Scan | C6: NA | D6: 1 | E6: NA
A7: 2 | B7: CMC | C7: NA | D7: 1 | E7: NA
A8: 3 | B8: Power wire. Dây nguồn 2.0 | C8: NA | D8: 1 | E8: NA
A9: ※作業步驟 Nội dung thao tác
A10: 1 Check Device label & KC label about content and characters have to be clear, broken character,
A11: misalightment priting,.. Label must be sticked as T-direction on H1-H3 and box label must be floated stick on Housing.
A12: Kiểm tra tem Device và tem KC phải dán theo chiều chữ T(H1-H3) về nội dung, kí tự không được sai, mờ,
A13: thiếu, đứt nét, in lệch, rách,…Kiểm tra tem Box label đã được dán nổi trên Housing(H.3)
A14: 2. Visual inspect Housing must not have any scratch, dirty, break or get out of shape H.2
A15: If happen remove protective film and repair at housing. Then Keep protetive film at TOP housing H.3
A16: Kiểm tra mặt TOP không được có vết bẩn, bụi lông vết xước, biến dạng hình, vết hằn nứt... (H.2).
A17: Nếu có bóc băng bảo vệ kiểm tra ngoại quan xử lý Housing. Sau đó dán lại băng bảo vệ mặt TOP (H.3).
A18: 3. Check connector port must not dirty or bent, characters must be clearly (H5), refer to image Ok and NG (H.7)
A19: Kiểm tra cổng tiếp nối có bị bẩn không, nét in, ký tự phải rõ ràng, chân pin không được biến dạng (H5).
A20: Tham khảo hình ảnh Ok và NG (H.7)
... A42: 3. Owner/ Kĩ sư phụ trách
A43: 部門 Bộ phận | B43: 名稱 Tên kĩ sư phụ trách | C43: 聯絡方式 Phương thức liên lạc
A45: IE | B45: ='Stick Device Label'!B35 -> Nguyễn Thị Yến | C45: ='Stick Device Label'!C35 -> 0337278797
A46: PQE | B46: ='Stick Device Label'!B36 -> Nguyễn Thị Hằng | C46: ='Stick Device Label'!C36 -> 0335578615 | J46: Standard time | L46: 35sec(CT=12sec)
A47: ME | B47: ='Stick Device Label'!B37 -> Nguyễn Quang Huy | C47: ='Stick Device Label'!C37 -> 0354644354

Sheet  Put Housing in PE bag
A1: FOXCONN INDUSTRIAL INTERNET CO.,LTD
A2: 標準作業規范 QUI ĐỊNH THAO TÁC TIÊU CHUẨN
A3: 適用產品 Sản phẩm | B3: T99X171.00 (BFX-AT100) | C3: 工站名稱 Công đoạn | D3: Put Housing in PE bag Đút túi PE | F3: 規 範 編 號 Mã tài liệu | I3: SOP-NV-AM646B1-03 | K3: 版次 Phiên bản | L3: H | M3: 頁次 Trang | N3: 9
A4: ※ 使用設備(治工具)Thiết bị, dụng cụ | F4: ※ 圖示 Hình minh họa
A5: STT | B5: 使用設備(治工具) Thiết bị, dụng cụ | C5: 編號 Mã | D5: Q'ty | E5: 備註 Chú thích
A6: NA | B6: NA | C6: NA | D6: NA | E6: NA
A7: ※作業步驟 Nội dung thao tác
A8: 1. From the conveyor, Visual inspect Housing must not have any scratch,
A9: dirty, break or get out of shape H.1,take and put Housing on PE bag,
A10: follow the direction of arrow on H1, floating stick BOX label on PE bag (H2)
A11: and pass it to the next station, product move direction H.2.
A12: Từ chuyền, lấy sản phẩm kiểm tra không có vết bẩn, bụi lông vết xước,
A13: biến dạng hình, vết hằn nứt... (H.1). Kiểm tra xong,
A14: đút sản phẩm vào túi PE theo chiều mũi tên như H1,
A15: dán nổi BOX Label lên túi PE (H2), sau đó đặt sản phẩm vào băng chuyền,
A16: hướng chuyển bản như hình H.2.
A19: ※ 注意/確認事項 Chú ý
A20: 1. Must wear rubber glover (The thumb, index & middle finger of one gloves cutting),
... A26: 3. Owner/ Kĩ sư phụ trách
A27: 部門 Bộ phận | B27: 名稱 Tên kĩ sư phụ trách | C27: 聯絡方式 Phương thức liên lạc | F27: ※ 使用材料(零件明細表) Bảng chi tiết các vật liệu sử dụng
G28: P/N | I28: Specification | L28: Q'ty | N28: Class
A29: IE | B29: ='VI1 (1)'!B45 -> Nguyễn Thị Yến | C29: ='VI1 (1)'!C45 -> 0337278797 | F29: 1 | G29: 510.01021.005 | I29: BAG PE 150*130mm REV.00 GP/HF PE | L29: 1 | N29: Túi PE
A30: PQE | B30: ='VI1 (1)'!B46 -> Nguyễn Thị Hằng | C30: ='VI1 (1)'!C46 -> 0335578615 | J30: Standard time | L30: 11sec(CT=12sec)
A31: ME | B31: ='VI1 (1)'!B47 -> Nguyễn Quang Huy | C31: ='VI1 (1)'!C47 -> 0354644354

Sheet Insert and scan accessary
A1: FOXCONN INDUSTRIAL INTERNET CO.,LTD
A2: 標準作業規范 QUI ĐỊNH THAO TÁC TIÊU CHUẨN
A3: 適用產品 Sản phẩm | B3: T99X171.00 (BFX-AT100) | C3: 工站名稱 Công đoạn | D3: Insert and scan accessary Lấy & quét phụ kiện | F3: 規 範 編 號 Mã tài liệu | I3: SOP-NV-AM646B1-03 | K3: 版次 Phiên bản | L3: H1 | M3: 頁次 Trang | N3: 10
A4: ※ 使用設備(治工具)Thiết bị, dụng cụ | F4: ※ 圖示 Hình minh họa
A5: STT | B5: 使用設備(治工具) Thiết bị, dụng cụ | C5: 編號 Mã | D5: Q'ty | E5: 備註 Chú thích
A6: 1 | B6: Scanner Scan | C6: NA | D6: 1 | E6: NA
A7: 2 | B7: CMC | C7: NA | D7: 1 | E7: NA
A8: ※作業步驟 Nội dung thao tác
A9: 1.Take the product from the conveyor, check that the product has been put in PE OK.
A10: Lấy sản phẩm từ băng chuyền, kiểm tra đã được đút túi bóng PE.
A11: 2.Take the scan machine, the fisrt of all scan MAC on Device label on product (H1)
A12: Cầm Máy quét, trước tiên quét mã MAC trên sản phẩm (H1).
A13: 3.Take the instruction book and scan book's barcode, then put on the conveyor (H1).
A14: Lấy sách hướng dẫn và quét mã vạch trên sách hướng dẫn, sau đó đặt lên băng chuyền (H1)
A15: 4.Take the cable Lan and scan barcode of Cable Lan, then put on the conveyor
A16: Lấy Cable LAN và quét mã vạch trên Cable LAN, sau đó đặt vào băng chuyền.
A17: 5.Take the cabel HDMI and scan barcode of Cable HDMI, then put on the conveyor
A18: Lấy Cable HDMI và quét mã vạch trên Cable HDMI, sau đó đặt vào băng chuyền.
A19: 6.Take the adapter and scan barcode of adapter, then put on the conveyor
... A36: Khi lấy phụ kiện phải kiểm tra ngoại quan không được bẩn, rách, mờ kí tự và một số lỗi ngoại quan khác.
A37: Nếu phát hiện lỗi đặt riêng vào khu vực lỗi và thông báo chuyền trưởng xử lí. | F37: ※ 使用材料(零件明細表) Bảng chi tiết các vật liệu sử dụng
A38: 5.Pay attention, before start working must compare P/N, Specification… is the same with SOP | G38: P/N | I38: Specification | M38: Q'ty | N38: Class
A39: Chú ý, trước khi làm việc phải đối chiếu vật liệu (mã liệu, quy cách...) đúng với SOP quy định. | F39: 1 | G39: 540.01452.035 | I39: MANUAL 145*145mm T99X171.00 GP/HF | M39: 1 | N39: Sách
A40: 6. Owner/ Kĩ sư phụ trách | G40: 540.01452.045
A41: 部門 Bộ phận | B41: 名稱 Tên kĩ sư phụ trách | C41: 聯絡方式 Phương thức liên lạc | F41: 2 | G41: 371.01056.005 | I41: CABLE RJ45 ASSY 1500+-50mm BLACK GP | M41: 1 | N41: LAN Cable
F42: 3 | G42: 371.01057.005 | I42: CABLE HDMI 19P 1800+-30mm BLACK GP | M42: 1 | N42: HDMI Cable
A43: IE | B43: =' Put Housing in PE bag'!B29 -> Nguyễn Thị Yến | C43: =' Put Housing in PE bag'!C29 -> 0337278797 | F43: 4 | G43: 381.00607.005LT | I43: ADP SW 90~265VAC 50~60Hz 5V 2A L5 KO | M43: 1 | N43: ADAPTER
A44: PQE | B44: =' Put Housing in PE bag'!B30 -> Nguyễn Thị Hằng | C44: =' Put Housing in PE bag'!C30 -> 0335578615 | J44: Standard time | L44: 11sec(CT=12sec)
A45: ME | B45: =' Put Housing in PE bag'!B31 -> Nguyễn Quang Huy | C45: =' Put Housing in PE bag'!C31 -> 0354644354

Sheet Take out and put adapter in PE 
A1: FOXCONN INDUSTRIAL INTERNET CO.,LTD
A2: 標準作業規范 QUI ĐỊNH THAO TÁC TIÊU CHUẨN
A3: 適用產品 Sản phẩm | B3: T99X171.00 (BFX-AT100) | C3: 工站名稱 Công đoạn | D3: Take out and put adapter in PE bag Tháo và bỏ sạc vào túi | F3: 規 範 編 號 Mã tài liệu | I3: SOP-NV-AM646B1-03 | K3: 版次 Phiên bản | L3: H | M3: 頁次 Trang | N3: 11
A4: ※ 使用設備(治工具)Thiết bị, dụng cụ | F4: ※ 圖示 Hình minh họa
A5: STT | B5: 使用設備(治工具) Thiết bị, dụng cụ | C5: 編號 Mã | D5: Q'ty | E5: 備註 Chú thích
A6: 1 | B6: NA | C6: NA | D6: 1 | E6: NA
A7: ※作業步驟 Nội dung thao tác
A8: 1. Take the adapter out of bag and put the adapter at the specified position as H1
A9: Từ thùng liệu, lấy cục sạc, mở túi bóng khí, sau đó chuyển cho người vị trí dưới quét mã adapter như hình 1.
A10: 2.After scan lable end will move, input bag nilon (H2). Move next station as H2
A11: Sau khi quét mã xong, đút lại sạc vào túi bóng khí như H2
A12: Đặt bản xuống chuyền chuyển sang công đoạn sau.
A13: Hướng chuyển bản như H2
A14: ※ 注意/確認事項 Chú ý
A15: 1. Must wear cotton glover (The thumb, index finger of one gloves cutting),
A16: ESD strap when performing (H3, H4)
A17: Phải đeo găng tay bông (găng tay một bên cắt 2 đầu ngón tay ngón cái,
A18: ngón trỏ) vòng tĩnh điện khi thao tác. (H3, H4)
... A23: 3.Pay attention, before start working must compare P/N, Specification… is the same with SOP
A24: Chú ý, trước khi làm việc phải đối chiếu vật liệu (mã liệu, quy cách...) đúng với SOP quy định. | F24: ※ 使用材料(零件明細表) Bảng chi tiết các vật liệu sử dụng
A25: 4. Owner/ Kĩ sư phụ trách | G25: P/N | I25: Specification | L25: Q'ty | M25: Class
A26: 部門 Bộ phận | B26: 名稱 Tên kĩ sư phụ trách | C26: 聯絡方式 Phương thức liên lạc
F27: 1 | G27: 381.00607.005LT | I27: ADP SW 90~265VAC 50~60Hz 5V 2A L5 KO | L27: 1 | M27: ADAPTER
A28: IE | B28: ='Insert and scan accessary'!B43 -> Nguyễn Thị Yến | C28: ='Insert and scan accessary'!C43 -> 0337278797
A29: PQE | B29: ='Insert and scan accessary'!B44 -> Nguyễn Thị Hằng | C29: ='Insert and scan accessary'!C44 -> 0335578615 | J29: Standard time | L29: 12 sec(CT=12sec)
A30: ME | B30: ='Insert and scan accessary'!B45 -> Nguyễn Quang Huy | C30: ='Insert and scan accessary'!C45 -> 0354644354

Sheet Gift Boxfold
A1: FOXCONN INDUSTRIAL INTERNET CO.,LTD
A2: 標準作業規范 QUI ĐỊNH THAO TÁC TIÊU CHUẨN
A3: 適用產品 Sản phẩm | B3: T99X171.00 (BFX-AT100) | C3: 工站名稱 Công đoạn | D3: Gift Box fold Gấp hộp | F3: 規 範 編 號 Mã tài liệu | H3: SOP-NV-AM646B1-03 | K3: 版次 Phiên bản | M3: H1 | N3: 頁次 Trang | P3: 11
A4: ※ 使用設備(治工具)Thiết bị, dụng cụ | F4: ※ 圖示 Hình minh họa
A5: STT | B5: 使用設備(治工具) Thiết bị, dụng cụ | C5: 編號 Mã | D5: Q'ty | E5: 備註 Chú thích
A6: NA | B6: NA | C6: NA | D6: NA | E6: NA
A7: ※作業步驟 Nội dung thao tác
A8: 1.Take the carton box from turnover box , inspect no have dirty, broken,
A9: deform specially no missing printing as H.1 & H.2
A10: Từ thùng luân chuyển, lấy BOX, kiểm tra, xác nhận box không bị bẩn, rách, biến dạng,
A11: đặc biệt chú ý chữ in trên hộp và một số lỗi ngoại quan khác như H1 & H2.
A12: 2.Take the box material fold into the box as H.3. After folding, check and confirm that the box is no tearing. (H6)
A13: Lấy box gấp lại thành hình như H.3. Gấp xong, kiểm tra, xác nhận hộp không có hiện tượng rách. (H6)
A14: 3.Check ok, Take the product put in the conveyor, product move direction H.3.
A15: Kiểm tra xong, để sản phẩm lên dây chuyền, hướng chuyển bản như hình H.3.
A16: ※ 注意/確認事項 Chú ý
A17: 1. Must wear clearn cotton glover, ESD strap when performing (H4, H5)
A18: Phải đeo găng tay bông, vòng tĩnh điện khi thao tác. (H4, H5)
... A25: đúng với SOP quy định.
A26: 4. Owner/ Kĩ sư phụ trách | F26: ※ 使用材料(零件明細表) Bảng chi tiết các vật liệu sử dụng
A27: 部門 Bộ phận | B27: 名稱 Tên kĩ sư phụ trách | C27: 聯絡方式 Phương thức liên lạc | G27: P/N | I27: Specification | M27: Q'ty | O27: Class
F28: 1 | G28: 521.01510.035 | I28: BOX GIFT 865.5*490mm REV.00 T99X171. | M28: 1 | O28: BOX GIFT
A29: IE | B29: ='Take out and put adapter in PE '!B28 -> Nguyễn Thị Yến | C29: ='Take out and put adapter in PE '!C28 -> 0337278797 | G29: 521.01510.045
A30: PQE | B30: ='Take out and put adapter in PE '!B29 -> Nguyễn Thị Hằng | C30: ='Take out and put adapter in PE '!C29 -> 0335578615 | M30: 12sec(CT=12sec)
A31: ME | B31: ='Take out and put adapter in PE '!B30 -> Nguyễn Quang Huy | C31: ='Take out and put adapter in PE '!C30 -> 0354644354

Sheet Arrange accessaries
A1: FOXCONN INDUSTRIAL INTERNET CO.,LTD
A2: 標準作業規范 QUI ĐỊNH THAO TÁC TIÊU CHUẨN
A3: 適用產品 Sản phẩm | B3: T99X171.00 (BFX-AT100) | C3: 工站名稱 Công đoạn | D3: Arrange accessaries Sắp xếp phụ kiện | F3: 規 範 編 號 Mã tài liệu | H3: SOP-NV-AM646B1-03 | K3: 版次 Phiên bản | M3: H2 | N3: 頁次 Trang | P3: 12
A4: ※ 使用設備(治工具)Thiết bị, dụng cụ | F4: ※ 圖示 Hình minh họa
A5: STT | B5: 使用設備(治工具) Thiết bị, dụng cụ | C5: 編號 Mã | D5: Q'ty | E5: 備註 Chú thích
A6: NA | B6: NA | C6: NA | D6: NA | E6: NA
A7: ※作業步驟 Nội dung thao tác
A8: 1. Take the box from conveyor, rearrange all accessaries as H.1
A9: Từ băng chuyền, xác nhận đúng đủ phụ kiện rồi đặt lần lượt phụ kiện vào hộp như H.1.
A10: 2. Take the remote control from turnover box put it into box as H1.
A11: Từ thùng đựng liệu, lấy điều khiển đặt vào hộp như H.1. Chú ý kiểm tra túi pin đính kèm.
A12: 3. Take the product put in the conveyor see figure, product move direction H.1.
A13: Lấy sản phẩm để lên dây chuyền, hướng chuyển bản như hình H.1.
A16: ※ 注意/確認事項 Chú ý
A17: 1. Must wear cotton glover (The thumb, index finger of one gloves cutting),
A18: ESD strap when performing (H2, H3)
A19: Phải đeo găng tay bông (găng tay một bên cắt 2 đầu ngón tay ngón cái,
A20: ngón trỏ) vòng tĩnh điện khi thao tác. (H2, H3)
... A27: Trước khi làm việc phải đối chiếu vật liệu (mã liệu, quy cách...) đúng với SOP quy định.
A28: 4. Owner/ Kĩ sư phụ trách | F28: ※ 使用材料(零件明細表) Bảng chi tiết các vật liệu sử dụng
A29: 部門 Bộ phận | B29: 名稱 Tên kĩ sư phụ trách | C29: 聯絡方式 Phương thức liên lạc | G29: P/N | I29: Specification | M29: Q'ty | N29: Class
F30: 1 | G30: 311.00100.005LT 311.00106.005LT | I30: REMOTE CONTROL BLACK T99X171.00 GP | M30: 1 | N30: RCU- Điều khiển
A31: IE | B31: ='Gift Boxfold'!B29 -> Nguyễn Thị Yến | C31: ='Gift Boxfold'!C29 -> 0337278797
A32: PQE | B32: ='Gift Boxfold'!B30 -> Nguyễn Thị Hằng | C32: ='Gift Boxfold'!C30 -> 0335578615 | K32: Standard time | M32: 11sec(CT=12sec)
A33: ME | B33: ='Gift Boxfold'!B31 -> Nguyễn Quang Huy | C33: ='Gift Boxfold'!C31 -> 0354644354

Sheet Partition fold 
A1: FOXCONN INDUSTRIAL INTERNET CO.,LTD
A2: 標準作業規范 QUI ĐỊNH THAO TÁC TIÊU CHUẨN
A3: 適用產品 Sản phẩm | B3: T99X171.00 (BFX-AT100) | C3: 工站名稱 Công đoạn | D3: Partition folded Gấp vách ngăn | F3: 規 範 編 號 Mã tài liệu | I3: SOP-NV-AM646B1-03 | L3: 版次 Phiên bản | M3: H2 | N3: 頁次 Trang | O3: 13
A4: ※ 使用設備(治工具)Thiết bị, dụng cụ | F4: ※ 圖示 Hình minh họa
A5: STT | B5: 使用設備(治工具) Thiết bị, dụng cụ | C5: 編號 Mã | D5: Q'ty | E5: 備註 Chú thích
A6: NA | B6: NA | C6: NA | D6: NA | E6: NA
A7: ※作業步驟 Nội dung thao tác
A8: 1. Take the product from conveyor put on the operation table
A9: Lấy sản phẩm từ băng chuyền đặt lên bàn thao tác.
A10: 2. Check all accessaries be put in the box (H1), then folder the patition show as figure 2
A11: Kiểm tra hộp đã được đặt đầy đủ phụ kiện như H.1, sau đó gấp vách ngăn lại như H.2.
A12: 3. Fold ok, take the product put in the conveyor see figure product move direction H.2.
A13: Gấp xong, đặt sản phẩm lên dây chuyền, hướng chuyển bản như hình H.2.
A18: ※ 注意/確認事項 Chú ý
A19: 1. Must wear clearn cotton glover, ESD strap when performing (H3, H4)
A20: Phải đeo găng tay bông, vòng tĩnh điện khi thao tác. (H3, H4)
A21: 2. Pay attention, when operation Take the carton box visual inspect must not durty, scrack…
A22: if defect error put in the NG box and inform line leader is handle
... A26: 3. Owner/ Kĩ sư phụ trách
A27: 部門 Bộ phận | B27: 名稱 Tên kĩ sư phụ trách | C27: 聯絡方式 Phương thức liên lạc
A29: IE | B29: ='Arrange accessaries'!B31 -> Nguyễn Thị Yến | C29: ='Arrange accessaries'!C31 -> 0337278797
A30: PQE | B30: ='Arrange accessaries'!B32 -> Nguyễn Thị Hằng | C30: ='Arrange accessaries'!C32 -> 0335578615 | K30: Standard time | M30: 11sec(CT=12sec)
A31: ME | B31: ='Arrange accessaries'!B33 -> Nguyễn Quang Huy | C31: ='Arrange accessaries'!C33 -> 0354644354

Sheet Stick box label
A1: FOXCONN INDUSTRIAL INTERNET CO.,LTD
A2: 標準作業規范 QUI ĐỊNH THAO TÁC TIÊU CHUẨN
A3: 適用產品 Sản phẩm | B3: T99X171.00 (BFX-AT100) | C3: 工站名稱 Công đoạn | D3: Stick Box Label Dán Box Label | F3: 規 範 編 號 Mã tài liệu | I3: SOP-NV-AM646B1-03 | L3: 版次 Phiên bản | M3: H1 | N3: 頁次 Trang | O3: 14
A4: ※ 使用設備(治工具)Thiết bị, dụng cụ | F4: ※ 圖示 Hình minh họa
A5: STT | B5: 使用設備(治工具) Thiết bị, dụng cụ | C5: 編號 Mã | D5: Q'ty | E5: 備註 Chú thích
A6: 1 | B6: NA | C6: NA | D6: 1 | E6: NA
A7: ※作業步驟 Nội dung thao tác
A8: 1.Take the Box label from conveyor (H1), take product input box (H2),
A9: visual inspect label must not print missing, blur …. Check OK,
A10: stick on the requip position product box show (H3). Pay attention Label direct and position
A11: (paste in the position above and close to the square symbol printed on the box)
A12: Từ chuyền lấy Box Label dán nổi ở sản phẩm (H1), đặt sản phẩm vào box (H2),
A13: kiểm tra các kí tự trên Label không được in thiếu, đứt đoạn, nhòe, mờ .…
A14: Kiểm tra OK, dán Box Label vào bên cạnh hộp (H3). Chú ý chiều hướng và vị trí dán Label.
A15: (dán vào vị trí bên trên và sát với ký hiệu góc vuông in trên box)
A16: 2. Put product on the conveyor pass the next station, product move direction H.3.
A17: Đăt sản phẩm lên băng chuyền chuyển đến công đoạn tiếp theo, hướng chuyển bản như hình H.3.
A21: ※ 注意/確認事項 Chú ý
... A33: 4. Owner/ Kĩ sư phụ trách
A34: 部門 Bộ phận | B34: 名稱 Tên kĩ sư phụ trách | C34: 聯絡方式 Phương thức liên lạc
A36: IE | B36: ='Partition fold '!B29 -> Nguyễn Thị Yến | C36: ='Partition fold '!C29 -> 0337278797
A37: PQE | B37: ='Partition fold '!B30 -> Nguyễn Thị Hằng | C37: ='Partition fold '!C30 -> 0335578615 | K37: Standard time | M37: 11.5sec(CT=12sec)
A38: ME | B38: ='Partition fold '!B31 -> Nguyễn Quang Huy | C38: ='Partition fold '!C31 -> 0354644354

Sheet Pack box
A1: FOXCONN INDUSTRIAL INTERNET CO.,LTD
A2: 標準作業規范 QUI ĐỊNH THAO TÁC TIÊU CHUẨN
A3: 適用產品 Sản phẩm | B3: T99X171.00 (BFX-AT100) | C3: 工站名稱 Công đoạn | D3: Pack Box | F3: 規 範 編 號 Mã tài liệu | I3: SOP-NV-AM646B1-03 | L3: 版次 Phiên bản | M3: H1 | N3: 頁次 Trang | O3: 15
A4: ※ 使用設備(治工具)Thiết bị, dụng cụ | F4: ※ 圖示 Hình minh họa
A5: STT | B5: 使用設備(治工具) Thiết bị, dụng cụ | C5: 編號 Mã | D5: Q'ty | E5: 備註 Chú thích
A6: 1 | B6: PC Máy tính | C6: NA | D6: 1 | E6: NA
A7: 2 | B7: Scanner Máy scan | C7: NA | D7: 1 | E7: NA
A8: ※作業步驟 Nội dung thao tác
A9: 1. Take the product from the conveyor put in the the operation table
A10: Từ băng chuyền lấy sản phẩm đặt lên bàn thao tác (H1)
A11: 2.Take the scan machine scan as below barcode: Lấy Máy quét quét các mã:
A12: 2-1.Scan product's SN label (H1)﹔Quét mã SN Label trên sản phẩm (H1).
A13: 2-2.Scan product's MAC label (H1)﹔Quét mã MAC label trên sản phẩm (H1).
A14: 2-3.Scan SN Box label (H1)﹔Quét mã SN label trên hộp (H1).
A15: 2-4 Scan MAC Box label (H1): Quét mã MAC label trên hộp (H1).
A16: 3. Take the product close bag mouth follow as H2, after input on the partition of box (H3)
A17: Pay attention have KC side is upward.
A18: Lấy sản phẩm gập miệng túi PE thao tác như H2, rồi đặt lên vách ngăn trong Box (H3)
A19: Chú ý: Mặt có tem KC hướng lên trên.
... A37: 4. Owner/ Kĩ sư phụ trách
A38: 部門 Bộ phận | B38: 名稱 Tên kĩ sư phụ trách | C38: 聯絡方式 Phương thức liên lạc
A40: IE | B40: ='Stick box label'!B36 -> Nguyễn Thị Yến | C40: ='Stick box label'!C36 -> 0337278797
A41: PQE | B41: ='Stick box label'!B37 -> Nguyễn Thị Hằng | C41: ='Stick box label'!C37 -> 0335578615 | K41: Standard time | M41: 12sec(CT=12sec)
A42: ME | B42: ='Stick box label'!B38 -> Nguyễn Quang Huy | C42: ='Stick box label'!C38 -> 0354644354

Sheet Close Box
A1: FOXCONN INDUSTRIAL INTERNET CO.,LTD
A2: 標準作業規范 QUI ĐỊNH THAO TÁC TIÊU CHUẨN
A3: 適用產品 Sản phẩm | B3: T99X171.00 (BFX-AT100) | C3: 工站名稱 Công đoạn | D3: Close Box Đóng hộp | F3: 規 範 編 號 Mã tài liệu | H3: SOP-NV-AM646B1-03 | K3: 版次 Phiên bản | M3: H1 | N3: 頁次 Trang | P3: 16
A4: ※ 使用設備(治工具)Thiết bị, dụng cụ | F4: ※ 圖示 Hình minh họa
A5: STT | B5: 使用設備(治工具) Thiết bị, dụng cụ | C5: 編號 Mã | D5: Q'ty | E5: 備註 Chú thích
A6: 1 | B6: NA | C6: NA | D6: 1 | E6: NA
A7: ※作業步驟 Nội dung thao tác
A8: 1. Take the product from the conveyor need check have PE bag as H.1. Close box follw as H.2
A9: Từ chuyền lấy sản phẩm lên kiểm tra ngoại quan không được thiếu túi bóng đựng bản như H.1.
A10: Gập hộp lại thao tác như H.2.
A11: 2. Pay attention, take the gift box visual inspect printings must not missing as H.3
A12: and folding carefully to avoid broken as H.4 &H.5, not complete as H.6, double folding line as H.7.
A13: If detect error put in the NG box and inform line leader handle
A14: Chú ý, lấy hộp kiểm tra không được thiếu chữ in trên hộp, mờ kí tự,…(H3)
A15: và chú ý gập cẩn thận tránh bị rách như H.4 & H.5, gập không vào hết như H.6,
A16: gập thành 2 đường như H.7
A17: Nếu phát hiện lỗi đặt riêng vào khu vực lỗi và thông báo chuyền trưởng xử lí
A18: ※ 注意/確認事項 Chú ý
... A32: 2. Owner/ Kĩ sư phụ trách
A33: 部門 Bộ phận | B33: 名稱 Tên kĩ sư phụ trách | C33: 聯絡方式 Phương thức liên lạc
A35: IE | B35: ='Pack box'!B40 -> Nguyễn Thị Yến | C35: ='Pack box'!C40 -> 0337278797
A36: PQE | B36: ='Pack box'!B41 -> Nguyễn Thị Hằng | C36: ='Pack box'!C41 -> 0335578615 | O36: Standard time | P36: 11.5sec(CT=12sec)
A37: ME | B37: ='Pack box'!B42 -> Nguyễn Quang Huy | C37: ='Pack box'!C42 -> 0354644354

Sheet Check weight
A1: FOXCONN INDUSTRIAL INTERNET CO.,LTD
A2: 標準作業規范 QUI ĐỊNH THAO TÁC TIÊU CHUẨN
A3: 適用產品 Sản phẩm | B3: T99X171.00 (BFX-AT100) | C3: 工站名稱 Công đoạn | D3: Check weight and pack carton Kiểm tra trọng lượng và xếp carton | J3: 規 範 編 號 Mã tài liệu | M3: SOP-NV-AM646B1-03 | O3: 版次 Phiên bản | P3: H1 | Q3: 頁次 Trang | R3: 17
A4: ※ 使用設備(治工具)Thiết bị, dụng cụ | J4: ※ 圖示 Hình minh họa
A5: STT | B5: 使用設備(治工具) Thiết bị, dụng cụ | D5: 編號 Mã | G5: Q'ty | H5: 備註 Chú thích
A6: 1 | B6: Scanner Máy scan | D6: NA | G6: 1 | H6: NA
A7: 2 | B7: Weight machine Cân | D7: NA | G7: 1 | H7: NA
A8: 3 | B8: Máy tính PC | D8: NA | G8: 1 | H8: NA
A9: ※作業步驟 Nội dung thao tác
A10: 1.Take the product, check and confirm box not torn and dirty, (H1)
A11: then put on weighting machine, scan SN label (H2)
A12: Từ chuyền lấy sản phẩm lên, kiểm tra, xác nhận box không có hiện tượng rách, bẩn, (H1)
A13: sau đó đặt vào cân, quét SN label (H2)
A14: 2. If the product FAIL (H3), inform line leader to handle (to open to recheck component of the box)
A15: Nếu sản phẩm FAIL(H3) lập tức thông báo cho chuyền trưởng xử lí
A16: (mở ra kiểm tra có đặt thừa hay thiếu phụ kiện không?)
A17: 3. If the product PASS (H4), input the product on carton.
A18: Nếu sản phẩm PASS (H4), xếp sản phẩm vào thùng carton
A19: 4. Take the weighted product from the conveyor put in the carton box
A20: according to the serial number SN on the box label: 10 product/carton box as H5
... A42: 4. Owner/ Kĩ sư phụ trách
A43: 部門 Bộ phận | B43: 名稱 Tên kĩ sư phụ trách | C43: 聯絡方式 Phương thức liên lạc
A45: IE | B45: ='Close Box'!B35 -> Nguyễn Thị Yến | C45: ='Close Box'!C35 -> 0337278797
A46: PQE | B46: ='Close Box'!B36 -> Nguyễn Thị Hằng | C46: ='Close Box'!C36 -> 0335578615 | Q46: Standard time | R46: 12sec (CT=12sec)
A47: ME | B47: ='Close Box'!B37 -> Nguyễn Quang Huy | C47: ='Close Box'!C37 -> 0354644354

Sheet Pack pallet 
A1: FOXCONN INDUSTRIAL INTERNET CO.,LTD
A2: 標準作業規范 QUI ĐỊNH THAO TÁC TIÊU CHUẨN
A3: 適用產品 Sản phẩm | B3: T99X171.00 (BFX-AT100) | C3: 工站名稱 Công đoạn | D3: Pack pallet Đóng Pallet ngoài chuyền | J3: 規 範 編 號 Mã tài liệu | M3: SOP-NV-AM646B1-03 | O3: 版次 Phiên bản | P3: H1 | Q3: 頁次 Trang | R3: 18
A4: ※ 使用設備(治工具)Thiết bị, dụng cụ | J4: ※ 圖示 Hình minh họa
A5: STT | B5: 使用設備(治工具) Thiết bị, dụng cụ | D5: 編號 Mã | G5: Q'ty | H5: 備註 Chú thích
A6: 1 | B6: Scanner Máy scan | D6: NA | G6: 1 | H6: NA
A7: 2 | B7: Print machine Máy in | D7: NA | G7: 1 | H7: NA
A8: 3 | B8: Paste carton machine Máy dán thùng | D8: NA | G8: 1 | H8: NA
A9: 4 | B9: Máy tính PC | D9: NA | G9: 1 | H9: NA
A10: ※作業步驟 Nội dung thao tác
A11: 1. Take carton, check and confirm that carton not torn, dirty and unusual color. Then fold as H1
A12: Lấy carton, kiểm tra không có hiện tượng rách, bẩn, màu khác thường, … sau đó gấp lại thành hình như H1
A13: 2. Take partition put in the carton box as H1
A14: Lấy vách ngăn dưới đặt vào carton như H1
A15: 3. After the carton is packed with 10 boxes, take scan and scan 10 box barcode label,
A16: printer print Carton Label. (H2, H3)
A17: Sau khi carton đã xếp đủ 10 hộp, lấy máy quét lần lượt quét hết 10 mã BOX SN Label,
A18: máy in in ra 1 trang Carton Label. (H2, H3)
A19: 4.Visual inspect the label must not print missing, blur….or other visual
A20: Kiểm tra các kí tự trên Label không được in thiếu, đứt đoạn, nhòe, mờ và một số lỗi ngoại quan khác.
A21: 5. Visual inspect ok , take the carton label stick on the carton box as H4
... A51: 5.The label version is the latest one on ECN. Phiên bản của Label phải đúng với phiên bản định nghĩa trong ECN mới nhất.
A52: 6.All the label need to be outward . Các Carton Label phải xếp hướng ra ngoài | J52: ※ 使用材料(零件明細表) Bảng chi tiết các vật liệu sử dụng
A53: 7.Carton color must be the same: Màu sắc các Carton phải giống nhau. | K53: P/N Mã liệu | L53: Specification Quy cách | Q53: Q'ty | R53: Class Tên liệu
A54: 8. Must check all PN of material match with SOP before operating. | J54: 1 | K54: 520.02388.025 | L54: CARTON 400*336*272mm REV.00 T99X171. | Q54: 1/10 | R54: CARTON
A55: Chú ý, trước khi làm việc phải đối chiếu vật liệu (mã liệu, quy cách...) đúng với SOP. | K55: 520.02388.035
A56: 9. Owner/ Kĩ sư phụ trách | J56: 2 | K56: 520.02389.005 | L56: PARTITION 337*316mm REV.00 T99X171.0 | Q56: 2/10 | R56: Vách ngăn (trên/ dưới)
A57: 部門 Bộ phận | B57: 名稱 Tên kĩ sư phụ trách | C57: 聯絡方式 Phương thức liên lạc | J57: 3 | K57: 503.00748.015 | L57: LABEL BLANK 150*100mm REV.00 WHITE G | Q57: 1/10 | R57: CARTON LABEL
J58: 4 | K58: 527.00146.005 | L58: PALLET 1219*1016*120mm WOODEN PALLET | Q58: 0.003125 | R58: PALLET
A59: IE | B59: ='Check weight'!B45 -> Nguyễn Thị Yến | C59: ='Check weight'!C45 -> 0337278797 | J59: 5 | K59: 515.00006.005 | L59: PACKING TAPE Polypropylene Film REV. | Q59: 0.000304 | R59: Băng dính đóng Carton
A60: PQE | B60: ='Check weight'!B46 -> Nguyễn Thị Hằng | C60: ='Check weight'!C46 -> 0335578615 | Q60: Standard time | R60: 12sec (CT=12sec)
A61: ME | B61: ='Check weight'!B47 -> Nguyễn Quang Huy | C61: ='Check weight'!C47 -> 0354644354

Sheet Pallet Stacking
A1: FOXCONN INDUSTRIAL INTERNET CO.,LTD
A2: 標準作業規范 QUI ĐỊNH THAO TÁC TIÊU CHUẨN
A3: 適用產品 Sản phẩm | B3: T99X171.00 (BFX-AT100) | C3: 工站名稱 Công đoạn | D3: Pallet Stacking Xếp Pallet | H3: 規 範 編 號 Mã tài liệu | L3: SOP-NV-AM646B1-03 | N3: 版本 Phiên bản | O3: H1 | P3: 頁次 Trang | R3: 19
A4: ※ 使用設備(治工具)Thiết bị, dụng cụ
A5: STT | B5: 使用設備(治工具) Thiết bị, dụng cụ | D5: 編號 Mã | E5: Q'ty | F5: 備註 Chú thích
A7: 1 | B7: PC. Máy Tính | D7: NA | E7: 1 | F7: NA
A8: 2 | B8: Scanner. Máy Scan | D8: NA | E8: 1 | F8: NA
A9: 3 | B9: Printer. Máy in label | D9: NA | E9: 1 | F9: NA
A10: 4 | B10: Rope tying machine. Máy buộc dây | D10: NA | E10: 1 | F10: NA
A11: 5 | B11: Stapling machine. Máy dập ghim | D11: NA | E11: 1 | F11: NA
A12: ※ 作業步驟 Nội dung thao tác
A13: 1. Take the scan, scan Carton label ID (H1), print out Pallet Label.
A14: Cầm máy Scan quét mã Carton Label (H.1), máy in in ra 1 trang Pallet Label.
A15: 2. Take pallet Label paste to the Pallet in the middle of the base pin the label to pallet,
A16: paste on the side that has carton label tight label, use stapling machine stapl label into pallet,
A17: pay attention, stapling in blank position. (H2&H3)
A18: Lấy Pallet Label dán lên Pallet tại phần giữa của đế, dán Pallet label ở
A19: mặt có Carton label, miết chặt label, dùng ghim ghim chặt label vào Pallet,
A20: chú ý ghim vào phần trắng của label (H.2&H.3)
A21: 3. Take partition put on the top of pallet as H2.
A22: Lấy 1 tấm vách ngăn đặt lên trên pallet như H2 minh họa.
A23: 4. Use paper board bezel fix the top 4 corners of the pallet as H2
... A43: 4. Label must not wrinkle, tear, deviate more than 5 degree, lose focus
A44: Label dán không được: nhăn, rách, bẩn, lệch qúa 5 độ, mất nét | H44: ※ 使用材料(零件明細表) Bảng chi tiết các vật liệu sử dụng
A45: 5. Note: This SOP use for Kitting. Chú ý: SOP sử dụng cho Kitting. | I45: P/N | J45: P/N | K45: Specification | P45: Q'ty | R45: Remark
A46: 6. Owner. Kỹ sư phụ trách | H46: 1 | I46: P/N | J46: 520.02389.005 | K46: PARTITION 337*316mm REV.00 BC FLUTE | P46: 1/320 | R46: Tấm ngăn pallet
A47: 部門 Bộ phận | B47: 名稱 Tên kĩ sư phụ trách | C47: 聯絡方式 Phương thức liên lạc | H47: 2 | J47: 522.00214.005 | K47: PAPER BOARD BEZEL 900*50*50mm REV.0 | P47: 4/320 | R47: Paper board. Thanh nẹp
H48: 3 | I48: 522.00215.005 | J48: 527.00146.005 | K48: PALLET 1219*1016*120mm WOODEN PALLET | P48: 1/320 | R48: PALLET
A49: IE | B49: ='Pack pallet '!B59 -> Nguyễn Thị Yến | C49: ='Pack pallet '!C59 -> 0337278797 | H49: 4 | I49: 522.00214.005 | J49: 511.00050.005 | K49: STRAPPING 16*0.7mm REV.00 GP/HF | P49: 5.1e-05 | R49: Strapping. Dây buộc
A50: PQE | B50: ='Pack pallet '!B60 -> Nguyễn Thị Hằng | C50: ='Pack pallet '!C60 -> 0335578615 | H50: 5 | J50: 503.00098.005 | K50: LABEL BLANK 100*50mm REV.0 WHITE GP/ | P50: 1/320 | R50: Pallet Label
A51: ME | B51: ='Pack pallet '!B61 -> Nguyễn Quang Huy | C51: ='Pack pallet '!C61 -> 0354644354 | N51: Standard Time | O51: 12sec (CT=12sec)

Sheet Warehouse
A1: FOXCONN INDUSTRIAL INTERNET CO.,LTD
A2: 標準作業規范 QUI ĐỊNH THAO TÁC TIÊU CHUẨN
A3: 適用產品 Sản phẩm | B3: ='Pallet Stacking'!B3 -> T99X171.00 (BFX-AT100) | C3: 工站名稱 Công đoạn | D3: Warehouse Nhập kho | H3: 規 範 編 號 Mã tài liệu | L3: ='Pallet Stacking'!L3:M3 -> SOP-NV-AM646B1-03 | N3: 版本 Phiên bản | O3: H1 | P3: 頁次 Trang | R3: 20
A4: ※ 使用設備(治工具)Thiết bị, dụng cụ
A5: STT | B5: 使用設備(治工具) Thiết bị, dụng cụ | D5: 編號 Mã | E5: Q'ty | F5: 備註 Chú thích
A7: 1 | B7: Protective file winding machine Máy quấn màng bảo vệ | D7: NA | E7: 1 | F7: NA
A8: 2 | B8: Scan | D8: NA | E8: 1 | F8: NA
A9: 3 | B9: PC | D9: NA | E9: 1 | F9: NA
A10: 4 | B10: Printer. Máy in label | D10: NA | E10: 1 | F10: NA
A11: ※ 作業步驟 Nội dung thao tác
A12: 1. Check the pallet, confirm that the pallet is packed enough 32 cartons, label has been
A13: pasted and stapled on pallet. Top side has been fixed by paper board (yellow color position).
A14: Green plastic straps have been pinned to the 4 corners of pallet as H1.
A15: Kiểm tra Pallet, xác nhận pallet đã xếp đủ 32 thùng carton, label pallet đã được dán
A16: và ghim đúng vị trí trên đế Pallet (H.2), 4 cạnh trên đã được dùng thanh nẹp cố định (phần màu vàng),
A17: dây đai nhựa màu xanh đã được ghim vào 4 góc của khối pallet như H.1.
A18: 2. When warehouse, FG must scan pallet label code. Khi nhập kho FG cần thao tác scan mã pallet label.
A19: 3. Using 4-angle carton angle covers (mark red color as H1), use PP bags to complete pallet bags.
A20: Dùng thanh nẹp carton cố định 4 cạnh bên của pallet (được đánh dấu màu đỏ như H1),
A21: dùng túi PP hoàn thành bao pallet.
A22: 4. One carton has must be mark OBA (H3). Một carton phải có dấu của OBA (H.3).
... A52: 2. Note： This SOP use for warehouse. Chú ý: SOP sử dụng cho Kho
A53: 3. Owner. Kỹ sư phụ trách | H53: ※ 使用材料(零件明細表) Bảng chi tiết các vật liệu sử dụng
A54: 部門 Bộ phận | B54: 名稱 Tên kĩ sư phụ trách | C54: 聯絡方式 Phương thức liên lạc | I54: P/N | J54: P/N | K54: Specification | P54: Q'ty | R54: Remark
H55: 1 | J55: 522.00214.005 | K55: PAPER BOARD BEZEL 900*50*50mm REV.0 | P55: 4/320 | R55: Paper board. Thanh nẹp
A56: IE | B56: ='Pallet Stacking'!B49 -> Nguyễn Thị Yến | C56: ='Pallet Stacking'!C49 -> 0337278797 | H56: 2 | I56: 522.00215.005 | J56: 511.00022.015 | K56: PS PACKING FILM 0.022*500mm REV.0 GP | P56: 0.000215 | R56: Packing film/Màng bọc
A57: PQE | B57: ='Pallet Stacking'!B50 -> Nguyễn Thị Hằng | C57: ='Pallet Stacking'!C50 -> 0335578615 | H57: 3 | I57: 522.00215.005 | J57: 503.01104.005 | K57: LABEL BLANK 115*80mm REV.0 YELLOW GP | P57: =2/320 -> 0.00625 | R57: Label shipping mark
A58: ME | B58: ='Pallet Stacking'!B51 -> Nguyễn Quang Huy | C58: ='Pallet Stacking'!C51 -> 0354644354 | N58: Standard Time | O58: 12sec (CT=12sec)

Sheet First Item Label
A1: FOXCONN INDUSTRIAL INTERNET CO.,LTD
A2: 標準作業規范 QUI ĐỊNH THAO TÁC TIÊU CHUẨN
A3: 適用產品 Sản phẩm | B3: T99X171.00 (BFX-AT100) | C3: 工站名稱 Công đoạn | D3: First item Label Label bản đầu | E3: 使用設備(治工具) Thiết bị, dụng cụ | F3: NA | G3: 規 範 編 號 Mã tài liệu | H3: SOP-NV-AM646B1-03 | I3: 版次 Phiên bản | J3: H1 | K3: 頁次 Trang | L3: 21
A4: Label Type (Loại Label) | B4: Part No (Mã liệu) | C4: Photo (Hình ảnh) | E4: Label Type (Loại Label) | F4: Part No (Mã liệu) | G4: Photo (Hình ảnh) | I4: Label Type (Loại Label) | J4: Part No (Mã liệu) | K4: Photo (Hình ảnh)
A5: LABEL BLANK | B5: 503.00034.005 | E5: KC LABEL | F5: 500.02364.015 | I5: DEVICE LABEL & BOX LABEL | J5: 504.01805.015
A6: Label Type (Loại Label) | B6: Part No (Mã liệu) | C6: Photo (Hình ảnh) | E6: Label Type (Loại Label) | F6: Part No (Mã liệu) | G6: Photo (Hình ảnh) | I6: Label Type (Loại Label) | J6: Part No (Mã liệu) | K6: Photo (Hình ảnh)
A7: CARTON LABEL | B7: 503.00748.015 | E7: PALLET LABEL | F7: 503.00098.005 | I7: WARRANTY LABEL | J7: 504.01483.005
A8: Label Type (Loại Label) | B8: Part No (Mã liệu) | C8: Photo (Hình ảnh) | E8: Label Type (Loại Label) | F8: Part No (Mã liệu) | G8: Photo (Hình ảnh) | I8: Label Type (Loại Label) | J8: Part No (Mã liệu) | K8: Photo (Hình ảnh)

Sheet Flow-chart
A1: FOXCONN INDUSTRIAL INTERNET CO.,LTD
A2: 標準作業規范 QUI ĐỊNH THAO TÁC TIÊU CHUẨN
A3: 適用產品 Sản phẩm | B3: T99X171.00 (BFX-AT100) | C3: 工站名稱 Công đoạn | D3: Flow-chart Lưu trình | E3: 規 範 編 號 Mã tài liệu | F3: SOP-NV-AM646B1-03 | H3: 版次 Phiên bản | I3: H1 | J3: 頁次 Trang | K3: 22
